BEGIN:VCALENDAR
VERSION:2.0
PRODID:icalendar-ruby
CALSCALE:GREGORIAN
BEGIN:VEVENT
DTSTAMP:20260420T134207Z
UID:7c3a1b3c-9ea5-45e6-8bb4-edee5e354bbd
DTSTART;VALUE=DATE:20260513
DESCRIPTION:Property ID# 606195\, Locatoin: Clark & Co Realty\, 7 Mana Espl
 anade Paremata.\, Time: 12:00PM
SUMMARY:Auction for 2/14 Jillett Street
END:VEVENT
END:VCALENDAR
