BEGIN:VCALENDAR
VERSION:2.0
PRODID:icalendar-ruby
CALSCALE:GREGORIAN
BEGIN:VEVENT
DTSTAMP:20260421T055746Z
UID:7acd7ec8-d6ed-4df2-a4d6-bd7148195c76
DTSTART;VALUE=DATE:20221214
DESCRIPTION:Property ID# 548291\, Locatoin: 215 Main Road\, Tawa\, Wellingt
 on 5028\, Time: 4:00PM
SUMMARY:Auction for 
END:VEVENT
END:VCALENDAR
