BEGIN:VCALENDAR
VERSION:2.0
PRODID:icalendar-ruby
CALSCALE:GREGORIAN
BEGIN:VEVENT
DTSTAMP:20260421T055252Z
UID:b413baaa-b3b4-487f-9e60-e806d97f09fb
DTSTART;VALUE=DATE:20220929
DESCRIPTION:Property ID# 542964\, Locatoin: 215 Main Road\, Tawa\, Wellingt
 on 5028\, Time: 12:00PM
SUMMARY:Auction for 
END:VEVENT
END:VCALENDAR
