BEGIN:VCALENDAR
VERSION:2.0
PRODID:icalendar-ruby
CALSCALE:GREGORIAN
BEGIN:VEVENT
DTSTAMP:20260421T055251Z
UID:343489b9-49a7-4083-bf45-4365bbc6d8a1
DTSTART;VALUE=DATE:20211027
DESCRIPTION:Property ID# 518322\, Locatoin: 215 Main Road\, Tawa\, Time: 4:
 00PM
SUMMARY:Auction for 
END:VEVENT
END:VCALENDAR
