BEGIN:VCALENDAR
VERSION:2.0
PRODID:icalendar-ruby
CALSCALE:GREGORIAN
BEGIN:VEVENT
DTSTAMP:20260421T030034Z
UID:ac7723c3-c49f-4018-9a99-1e1ad7314292
DTSTART;VALUE=DATE:20210825
DESCRIPTION:Property ID# 514967\, Locatoin: 215 Main Road\, Tawa\, Time: 4:
 00PM
SUMMARY:Auction for 
END:VEVENT
END:VCALENDAR
