BEGIN:VCALENDAR
VERSION:2.0
PRODID:icalendar-ruby
CALSCALE:GREGORIAN
BEGIN:VEVENT
DTSTAMP:20260421T055747Z
UID:c998e0c9-c9db-476a-8420-c622398c85f9
DTSTART;VALUE=DATE:20210721
DESCRIPTION:Property ID# 512319\, Locatoin: 215 Main Road\, Tawa\, Time: 4:
 00PM
SUMMARY:Auction for 
END:VEVENT
END:VCALENDAR
