BEGIN:VCALENDAR
VERSION:2.0
PRODID:icalendar-ruby
CALSCALE:GREGORIAN
BEGIN:VEVENT
DTSTAMP:20260421T055212Z
UID:83714c6d-86f9-4184-b421-0f867faca767
DTSTART;VALUE=DATE:20210708
DESCRIPTION:Property ID# 511913\, Locatoin: 215 Main Road\, Tawa\, Time: 4:
 00PM
SUMMARY:Auction for 
END:VEVENT
END:VCALENDAR
