BEGIN:VCALENDAR
VERSION:2.0
PRODID:icalendar-ruby
CALSCALE:GREGORIAN
BEGIN:VEVENT
DTSTAMP:20260421T055746Z
UID:e15b326a-b9e2-466e-84b3-867ad5be9621
DTSTART;VALUE=DATE:20210512
DESCRIPTION:Property ID# 507519\, Locatoin: 215 Main Road\, Tawa\, Time: 12
 :00PM
SUMMARY:Auction for 
END:VEVENT
END:VCALENDAR
