BEGIN:VCALENDAR
VERSION:2.0
PRODID:icalendar-ruby
CALSCALE:GREGORIAN
BEGIN:VEVENT
DTSTAMP:20260421T055455Z
UID:783f3c89-0652-41b8-8942-6d9b5b103073
DTSTART;VALUE=DATE:20210415
DESCRIPTION:Property ID# 505157\, Locatoin: 215 Main Road\, Tawa\, Time: 4:
 00PM
SUMMARY:Auction for 
END:VEVENT
END:VCALENDAR
