BEGIN:VCALENDAR
VERSION:2.0
PRODID:icalendar-ruby
CALSCALE:GREGORIAN
BEGIN:VEVENT
DTSTAMP:20260421T055556Z
UID:380125fa-17d0-4db0-8383-3ce058ba41a9
DTSTART;VALUE=DATE:20210331
DESCRIPTION:Property ID# 503715\, Locatoin: 215 Main Road\, Tawa\, Time: 4:
 00PM
SUMMARY:Auction for 
END:VEVENT
END:VCALENDAR
