BEGIN:VCALENDAR
VERSION:2.0
PRODID:icalendar-ruby
CALSCALE:GREGORIAN
BEGIN:VEVENT
DTSTAMP:20260423T113807Z
UID:a7908c94-ef82-4b4e-abd7-cabc1ac600db
DTSTART;VALUE=DATE:20210218
DESCRIPTION:Property ID# 500020\, Locatoin: 215 Main Road\, Tawa\, Time: 12
 :00PM
SUMMARY:Auction for 
END:VEVENT
END:VCALENDAR
