BEGIN:VCALENDAR
VERSION:2.0
PRODID:icalendar-ruby
CALSCALE:GREGORIAN
BEGIN:VEVENT
DTSTAMP:20260421T055251Z
UID:a6e860d0-36df-498d-94b2-fb09c2138d88
DTSTART;VALUE=DATE:20201216
DESCRIPTION:Property ID# 496352\, Locatoin: 215 Main Road\, Tawa\, Time: 4:
 00PM
SUMMARY:Auction for 
END:VEVENT
END:VCALENDAR
