BEGIN:VCALENDAR
VERSION:2.0
PRODID:icalendar-ruby
CALSCALE:GREGORIAN
BEGIN:VEVENT
DTSTAMP:20260424T061104Z
UID:9a3f8682-fcb4-4252-ad54-06bf18feb75b
DTSTART;VALUE=DATE:20201210
DESCRIPTION:Property ID# 495415\, Locatoin: 215 Main Road\, Tawa\, Time: 12
 :00PM
SUMMARY:Auction for 
END:VEVENT
END:VCALENDAR
