BEGIN:VCALENDAR
VERSION:2.0
PRODID:icalendar-ruby
CALSCALE:GREGORIAN
BEGIN:VEVENT
DTSTAMP:20260421T082102Z
UID:d42ee529-b7db-43fe-9eb9-bbc4cf6a08dc
DTSTART;VALUE=DATE:20200923
DESCRIPTION:Property ID# 489124\, Locatoin: Ray White Johnsonville\, 20 Moo
 refield Road\, Time: 3:00PM
SUMMARY:Auction for 
END:VEVENT
END:VCALENDAR
